BEGIN:VCALENDAR
VERSION:2.0
PRODID:-//Louise Dawson Professional and Management Development Training - ECPv6.15.20//NONSGML v1.0//EN
CALSCALE:GREGORIAN
METHOD:PUBLISH
X-WR-CALNAME:Louise Dawson Professional and Management Development Training
X-ORIGINAL-URL:https://louisedawson.com
X-WR-CALDESC:Events for Louise Dawson Professional and Management Development Training
REFRESH-INTERVAL;VALUE=DURATION:PT1H
X-Robots-Tag:noindex
X-PUBLISHED-TTL:PT1H
BEGIN:VTIMEZONE
TZID:Asia/Dubai
BEGIN:STANDARD
TZOFFSETFROM:+0400
TZOFFSETTO:+0400
TZNAME:+04
DTSTART:20240101T000000
END:STANDARD
END:VTIMEZONE
BEGIN:VEVENT
DTSTART;TZID=Asia/Dubai:20250501T090000
DTEND;TZID=Asia/Dubai:20250501T110000
DTSTAMP:20260425T175229
CREATED:20250428T150953Z
LAST-MODIFIED:20250428T151153Z
UID:10000084-1746090000-1746097200@louisedawson.com
SUMMARY:FREE! Optimize Communication & Connection with Your Autistic Child - an Autism Awareness Month event
DESCRIPTION:Optimize Communication & Connection with Your Autistic Child – an Autism Awareness Month event\nJoin us for an inspiring and informative session with Aalia Thobani\, a passionate Speech Pathologist and Cognitive Specialist\, dedicated to helping families build deeper\, more meaningful connections with their autistic children. \nWhether you’re a parent\, caregiver\, educator\, or professional—this event is designed to empower you with practical tools\, insights\, and a fresh perspective on communication that truly resonates. \nWhat You’ll Learn:  \n💙 How to tune into your child’s unique communication style\n💙 Strategies to foster trust and connection\n💙 Simple ways to support language development at home\n💙 Building everyday moments into powerful learning opportunities\n💙 How to support social interaction\, play\, and language at home\n💙 Building trust\, connection\, and confidence—together \nAttendance is FREE! \nRegister here \nDisclaimer \nThis event is organised by an external organisation and Louise Dawson Professional Development and Management Training cannot accept any liability or responsibility for the content or quality of the event. \nAny payments are made directly with the external event provider and any conversation about delivery of the event\, products or services\, payment\, refunds\, etc should be addressed directly to the external company. \nIf you have concerns about any content of the external event then please let us know so we can raise them with the event organiser on behalf of all attendees.
URL:https://louisedawson.com/event/free-optimize-communication-connection-with-your-autistic-child-an-autism-awareness-month-event/
LOCATION:Polline\, Dubai\, Polline\, Dubai\, Jumeira St\, Umm Suqeim 3\, Dubai\, United Arab Emirates
CATEGORIES:External Training
ATTACH;FMTTYPE=image/jpeg:https://louisedawson.com/wp-content/uploads/2025/04/250501-The-Brain-Accelerator-Autisnm-Awareness-Month-event.jpeg
ORGANIZER;CN="Aalia Thobani at The Brain Accelerator":MAILTO:hello@thebrainaccelerator.com
END:VEVENT
END:VCALENDAR